BEGIN:VCALENDAR
VERSION:2.0
PRODID:-//COUNTED OUT - ECPv6.15.12.2//NONSGML v1.0//EN
CALSCALE:GREGORIAN
METHOD:PUBLISH
X-WR-CALNAME:COUNTED OUT
X-ORIGINAL-URL:https://countedoutfilm.com
X-WR-CALDESC:Events for COUNTED OUT
REFRESH-INTERVAL;VALUE=DURATION:PT1H
X-Robots-Tag:noindex
X-PUBLISHED-TTL:PT1H
BEGIN:VTIMEZONE
TZID:America/New_York
BEGIN:DAYLIGHT
TZOFFSETFROM:-0500
TZOFFSETTO:-0400
TZNAME:EDT
DTSTART:20250309T070000
END:DAYLIGHT
BEGIN:STANDARD
TZOFFSETFROM:-0400
TZOFFSETTO:-0500
TZNAME:EST
DTSTART:20251102T060000
END:STANDARD
BEGIN:DAYLIGHT
TZOFFSETFROM:-0500
TZOFFSETTO:-0400
TZNAME:EDT
DTSTART:20260308T070000
END:DAYLIGHT
BEGIN:STANDARD
TZOFFSETFROM:-0400
TZOFFSETTO:-0500
TZNAME:EST
DTSTART:20261101T060000
END:STANDARD
BEGIN:DAYLIGHT
TZOFFSETFROM:-0500
TZOFFSETTO:-0400
TZNAME:EDT
DTSTART:20270314T070000
END:DAYLIGHT
BEGIN:STANDARD
TZOFFSETFROM:-0400
TZOFFSETTO:-0500
TZNAME:EST
DTSTART:20271107T060000
END:STANDARD
END:VTIMEZONE
BEGIN:VTIMEZONE
TZID:UTC
BEGIN:STANDARD
TZOFFSETFROM:+0000
TZOFFSETTO:+0000
TZNAME:UTC
DTSTART:20250101T000000
END:STANDARD
END:VTIMEZONE
BEGIN:VTIMEZONE
TZID:America/Los_Angeles
BEGIN:DAYLIGHT
TZOFFSETFROM:-0800
TZOFFSETTO:-0700
TZNAME:PDT
DTSTART:20250309T100000
END:DAYLIGHT
BEGIN:STANDARD
TZOFFSETFROM:-0700
TZOFFSETTO:-0800
TZNAME:PST
DTSTART:20251102T090000
END:STANDARD
BEGIN:DAYLIGHT
TZOFFSETFROM:-0800
TZOFFSETTO:-0700
TZNAME:PDT
DTSTART:20260308T100000
END:DAYLIGHT
BEGIN:STANDARD
TZOFFSETFROM:-0700
TZOFFSETTO:-0800
TZNAME:PST
DTSTART:20261101T090000
END:STANDARD
BEGIN:DAYLIGHT
TZOFFSETFROM:-0800
TZOFFSETTO:-0700
TZNAME:PDT
DTSTART:20270314T100000
END:DAYLIGHT
BEGIN:STANDARD
TZOFFSETFROM:-0700
TZOFFSETTO:-0800
TZNAME:PST
DTSTART:20271107T090000
END:STANDARD
END:VTIMEZONE
BEGIN:VTIMEZONE
TZID:America/Chicago
BEGIN:DAYLIGHT
TZOFFSETFROM:-0600
TZOFFSETTO:-0500
TZNAME:CDT
DTSTART:20250309T080000
END:DAYLIGHT
BEGIN:STANDARD
TZOFFSETFROM:-0500
TZOFFSETTO:-0600
TZNAME:CST
DTSTART:20251102T070000
END:STANDARD
BEGIN:DAYLIGHT
TZOFFSETFROM:-0600
TZOFFSETTO:-0500
TZNAME:CDT
DTSTART:20260308T080000
END:DAYLIGHT
BEGIN:STANDARD
TZOFFSETFROM:-0500
TZOFFSETTO:-0600
TZNAME:CST
DTSTART:20261101T070000
END:STANDARD
BEGIN:DAYLIGHT
TZOFFSETFROM:-0600
TZOFFSETTO:-0500
TZNAME:CDT
DTSTART:20270314T080000
END:DAYLIGHT
BEGIN:STANDARD
TZOFFSETFROM:-0500
TZOFFSETTO:-0600
TZNAME:CST
DTSTART:20271107T070000
END:STANDARD
END:VTIMEZONE
BEGIN:VTIMEZONE
TZID:America/Los_Angeles
BEGIN:DAYLIGHT
TZOFFSETFROM:-0800
TZOFFSETTO:-0700
TZNAME:PDT
DTSTART:20250309T100000
END:DAYLIGHT
BEGIN:STANDARD
TZOFFSETFROM:-0700
TZOFFSETTO:-0800
TZNAME:PST
DTSTART:20251102T090000
END:STANDARD
BEGIN:DAYLIGHT
TZOFFSETFROM:-0800
TZOFFSETTO:-0700
TZNAME:PDT
DTSTART:20260308T100000
END:DAYLIGHT
BEGIN:STANDARD
TZOFFSETFROM:-0700
TZOFFSETTO:-0800
TZNAME:PST
DTSTART:20261101T090000
END:STANDARD
BEGIN:DAYLIGHT
TZOFFSETFROM:-0800
TZOFFSETTO:-0700
TZNAME:PDT
DTSTART:20270314T100000
END:DAYLIGHT
BEGIN:STANDARD
TZOFFSETFROM:-0700
TZOFFSETTO:-0800
TZNAME:PST
DTSTART:20271107T090000
END:STANDARD
END:VTIMEZONE
BEGIN:VTIMEZONE
TZID:America/Denver
BEGIN:DAYLIGHT
TZOFFSETFROM:-0700
TZOFFSETTO:-0600
TZNAME:MDT
DTSTART:20250309T090000
END:DAYLIGHT
BEGIN:STANDARD
TZOFFSETFROM:-0600
TZOFFSETTO:-0700
TZNAME:MST
DTSTART:20251102T080000
END:STANDARD
BEGIN:DAYLIGHT
TZOFFSETFROM:-0700
TZOFFSETTO:-0600
TZNAME:MDT
DTSTART:20260308T090000
END:DAYLIGHT
BEGIN:STANDARD
TZOFFSETFROM:-0600
TZOFFSETTO:-0700
TZNAME:MST
DTSTART:20261101T080000
END:STANDARD
BEGIN:DAYLIGHT
TZOFFSETFROM:-0700
TZOFFSETTO:-0600
TZNAME:MDT
DTSTART:20270314T090000
END:DAYLIGHT
BEGIN:STANDARD
TZOFFSETFROM:-0600
TZOFFSETTO:-0700
TZNAME:MST
DTSTART:20271107T080000
END:STANDARD
END:VTIMEZONE
BEGIN:VTIMEZONE
TZID:America/Denver
BEGIN:DAYLIGHT
TZOFFSETFROM:-0700
TZOFFSETTO:-0600
TZNAME:MDT
DTSTART:20250309T090000
END:DAYLIGHT
BEGIN:STANDARD
TZOFFSETFROM:-0600
TZOFFSETTO:-0700
TZNAME:MST
DTSTART:20251102T080000
END:STANDARD
BEGIN:DAYLIGHT
TZOFFSETFROM:-0700
TZOFFSETTO:-0600
TZNAME:MDT
DTSTART:20260308T090000
END:DAYLIGHT
BEGIN:STANDARD
TZOFFSETFROM:-0600
TZOFFSETTO:-0700
TZNAME:MST
DTSTART:20261101T080000
END:STANDARD
BEGIN:DAYLIGHT
TZOFFSETFROM:-0700
TZOFFSETTO:-0600
TZNAME:MDT
DTSTART:20270314T090000
END:DAYLIGHT
BEGIN:STANDARD
TZOFFSETFROM:-0600
TZOFFSETTO:-0700
TZNAME:MST
DTSTART:20271107T080000
END:STANDARD
END:VTIMEZONE
BEGIN:VEVENT
DTSTART;TZID=America/New_York:20260418T110000
DTEND;TZID=America/New_York:20260502T130000
DTSTAMP:20260420T002319
CREATED:20260415T170253Z
LAST-MODIFIED:20260415T170403Z
UID:8515-1776510000-1777726800@countedoutfilm.com
SUMMARY:Accessible Calculus Project
DESCRIPTION:
URL:https://countedoutfilm.com/screenings/accessible-calculus-project/
LOCATION:Smyrna\, GA\, 1250 Powder Springs St SE\, Smyrna\, GA\, 30080\, United States
ORGANIZER;CN="Brian Lawler":MAILTO:blawler4@kennesaw.edu
END:VEVENT
BEGIN:VEVENT
DTSTART;TZID=America/New_York:20260421T160000
DTEND;TZID=America/New_York:20260421T200000
DTSTAMP:20260420T002319
CREATED:20260407T190857Z
LAST-MODIFIED:20260407T190857Z
UID:7704-1776787200-1776801600@countedoutfilm.com
SUMMARY:Cooperative Educational Services
DESCRIPTION:
URL:https://countedoutfilm.com/screenings/cooperative-educational-services/
LOCATION:Trumbull\, CT\, 40 Lindeman Drive\, Trumbull\, CT\, 06611\, United States
ORGANIZER;CN="Erin Barlow":MAILTO:barlowe@cestrumbull.org
END:VEVENT
BEGIN:VEVENT
DTSTART;TZID=America/New_York:20260421T170000
DTEND;TZID=America/New_York:20260421T200000
DTSTAMP:20260420T002319
CREATED:20260203T183637Z
LAST-MODIFIED:20260204T180955Z
UID:4394-1776790800-1776801600@countedoutfilm.com
SUMMARY:The Child Development Institute at Sarah Lawrence College
DESCRIPTION:
URL:https://countedoutfilm.com/screenings/the-child-development-institute-at-sarah-lawrence-college/
LOCATION:Bronxville\, NY\, 968 Kimball Avenue\, Bronxville\, NY\, 10708\, United States
END:VEVENT
BEGIN:VEVENT
DTSTART;TZID=America/New_York:20260421T180000
DTEND;TZID=America/New_York:20260421T200000
DTSTAMP:20260420T002319
CREATED:20260402T132049Z
LAST-MODIFIED:20260402T203221Z
UID:7222-1776794400-1776801600@countedoutfilm.com
SUMMARY:The Tatnall School
DESCRIPTION:
URL:https://countedoutfilm.com/screenings/the-tatnall-school/
LOCATION:Wilmington\, DE\, 1501 Barley Mill Rd\, Wilmington\, DE\, 19807\, United States
ORGANIZER;CN="Sara Gartland":MAILTO:saragartland@tatnall.org
END:VEVENT
BEGIN:VEVENT
DTSTART;TZID=UTC:20260422T180000
DTEND;TZID=UTC:20260422T203000
DTSTAMP:20260420T002319
CREATED:20260304T180250Z
LAST-MODIFIED:20260313T194122Z
UID:5661-1776880800-1776889800@countedoutfilm.com
SUMMARY:College Assistance Migrant Program at Kodiak College
DESCRIPTION:
URL:https://countedoutfilm.com/screenings/college-assistance-migrant-program-at-kodiak-college/
LOCATION:Kodiak College\, 117 Benny Benson Dr\, Kodiak\, CA\, 99615\, United States
END:VEVENT
BEGIN:VEVENT
DTSTART;TZID=UTC:20260422T190000
DTEND;TZID=UTC:20260422T213000
DTSTAMP:20260420T002319
CREATED:20260328T235515Z
LAST-MODIFIED:20260402T202817Z
UID:6881-1776884400-1776893400@countedoutfilm.com
SUMMARY:Charles River School
DESCRIPTION:
URL:https://countedoutfilm.com/screenings/charles-river-school/
LOCATION:Dover\, MA\, 6 Old Meadow Road\, Dover\, MA\, 02030\, United States
ORGANIZER;CN="Sarah Wong":MAILTO:swong@charlesriverschool.org
END:VEVENT
BEGIN:VEVENT
DTSTART;TZID=UTC:20260423T180000
DTEND;TZID=UTC:20260423T200000
DTSTAMP:20260420T002319
CREATED:20251001T203423Z
LAST-MODIFIED:20260324T095220Z
UID:3169-1776967200-1776974400@countedoutfilm.com
SUMMARY:North Park Elementary School
DESCRIPTION:
URL:https://countedoutfilm.com/screenings/north-park-elementary-school/
LOCATION:Chicago\, IL\, 2333 W McLean Ave\, Chicago\, IL\, 60647\, United States
END:VEVENT
BEGIN:VEVENT
DTSTART;TZID=America/Los_Angeles:20260423T180000
DTEND;TZID=America/Los_Angeles:20260423T203000
DTSTAMP:20260420T002319
CREATED:20260205T144355Z
LAST-MODIFIED:20260326T210155Z
UID:4498-1776967200-1776976200@countedoutfilm.com
SUMMARY:Kent School District
DESCRIPTION:
URL:https://countedoutfilm.com/screenings/kent-school-district/
LOCATION:Kent\, WA\, 10020 SE 256th Street\, Kent\, WA\, 98030\, United States
END:VEVENT
BEGIN:VEVENT
DTSTART;TZID=America/Chicago:20260424T064500
DTEND;TZID=America/Chicago:20260424T100000
DTSTAMP:20260420T002319
CREATED:20260408T205859Z
LAST-MODIFIED:20260408T205859Z
UID:7835-1777013100-1777024800@countedoutfilm.com
SUMMARY:Huntley Community District 158
DESCRIPTION:
URL:https://countedoutfilm.com/screenings/huntley-community-district-158/
LOCATION:Huntley\, IL\, 13719 Harmony Rd\, Huntley\, IL\, 60142\, United States
ORGANIZER;CN="Brian Truax":MAILTO:btruax@district158.org
END:VEVENT
BEGIN:VEVENT
DTSTART;TZID=America/New_York:20260424T093000
DTEND;TZID=America/New_York:20260424T120000
DTSTAMP:20260420T002319
CREATED:20260409T200439Z
LAST-MODIFIED:20260409T200439Z
UID:7941-1777023000-1777032000@countedoutfilm.com
SUMMARY:Carlisle Area School District
DESCRIPTION:
URL:https://countedoutfilm.com/screenings/carlisle-area-school-district/
LOCATION:Carlisle\, PA\, 623 W. Penn Street\, Carlisle\, PA\, 17013\, United States
ORGANIZER;CN="Allison Moyer":MAILTO:moyera5@carlisleschools.org
END:VEVENT
BEGIN:VEVENT
DTSTART;TZID=America/Los_Angeles:20260427T104500
DTEND;TZID=America/Los_Angeles:20260427T123000
DTSTAMP:20260420T002319
CREATED:20260225T220924Z
LAST-MODIFIED:20260225T220924Z
UID:5084-1777286700-1777293000@countedoutfilm.com
SUMMARY:Kamloops Thompson Teachers' Association
DESCRIPTION:
URL:https://countedoutfilm.com/screenings/kamloops-thompson-teachers-association/
LOCATION:Henry Grube Education Centre\, 245 Kitchener Crescent\, Kamloops\, BC\, V2B 1B9\, Canada
END:VEVENT
BEGIN:VEVENT
DTSTART;TZID=America/New_York:20260427T170000
DTEND;TZID=America/New_York:20260427T210000
DTSTAMP:20260420T002319
CREATED:20260225T194839Z
LAST-MODIFIED:20260416T190153Z
UID:5065-1777309200-1777323600@countedoutfilm.com
SUMMARY:Community School District 29 and NYC Solves
DESCRIPTION:
URL:https://countedoutfilm.com/screenings/new-york-city-public-schools/
LOCATION:St. Albans\, NY\, 109-89 204 Street\, St. Albans\, NY\, 11412\, United States
END:VEVENT
BEGIN:VEVENT
DTSTART;TZID=America/New_York:20260427T180000
DTEND;TZID=America/New_York:20260427T200000
DTSTAMP:20260420T002319
CREATED:20260323T234516Z
LAST-MODIFIED:20260410T164709Z
UID:6740-1777312800-1777320000@countedoutfilm.com
SUMMARY:The Raben Group\, Aspire Learning\, & FEAT Coaching
DESCRIPTION:
URL:https://countedoutfilm.com/screenings/the-raben-group-aspire-afterschool-learning-feat-coaching/
LOCATION:Arlington\, VA\, 909 S Dinwiddie Street\, Arlington\, VA\, 22204\, United States
END:VEVENT
BEGIN:VEVENT
DTSTART;TZID=America/New_York:20260427T180000
DTEND;TZID=America/New_York:20260427T210000
DTSTAMP:20260420T002319
CREATED:20260204T162414Z
LAST-MODIFIED:20260402T151603Z
UID:4446-1777312800-1777323600@countedoutfilm.com
SUMMARY:Francis W. Parker School
DESCRIPTION:
URL:https://countedoutfilm.com/screenings/francis-w-parker-school/
LOCATION:Chicago\, IL\, 2333 W McLean Ave\, Chicago\, IL\, 60647\, United States
END:VEVENT
BEGIN:VEVENT
DTSTART;TZID=UTC:20260428T083000
DTEND;TZID=UTC:20260428T110000
DTSTAMP:20260420T002319
CREATED:20260402T180443Z
LAST-MODIFIED:20260410T173520Z
UID:7259-1777365000-1777374000@countedoutfilm.com
SUMMARY:Waterloo Region District School Board Administrators
DESCRIPTION:
URL:https://countedoutfilm.com/screenings/waterloo-region-district-school-board/
LOCATION:Waterloo Region District School Board\, 51 Ardelt Ave.\, Meeting Room\, Education Centre\, Kitchener\, Ontario\, N2C 2R5\, Canada
ORGANIZER;CN="Carolyn Gingerich":MAILTO:carolyn_gingerich@wrdsb.ca
END:VEVENT
BEGIN:VEVENT
DTSTART;TZID=America/New_York:20260428T120000
DTEND;TZID=America/New_York:20260428T140000
DTSTAMP:20260420T002319
CREATED:20260227T000120Z
LAST-MODIFIED:20260227T000120Z
UID:5194-1777377600-1777384800@countedoutfilm.com
SUMMARY:SUNY Westchester Community College
DESCRIPTION:
URL:https://countedoutfilm.com/screenings/suny-westchester-community-college/
LOCATION:Valhalla\, NY\, 75 Grasslands Rd\, Valhalla\, NY\, 10595\, United States
END:VEVENT
BEGIN:VEVENT
DTSTART;TZID=America/New_York:20260428T174500
DTEND;TZID=America/New_York:20260428T194500
DTSTAMP:20260420T002319
CREATED:20260413T180112Z
LAST-MODIFIED:20260413T180112Z
UID:8306-1777398300-1777405500@countedoutfilm.com
SUMMARY:WVU School of Mathematical and Data Sciences
DESCRIPTION:
URL:https://countedoutfilm.com/screenings/wvu-school-of-mathematical-and-data-sciences/
LOCATION:Morgantown\, WV\, 1550 University Ave\, Morgantown\, WV\, 26506\, United States
ORGANIZER;CN="Josh Karr":MAILTO:jkarr1@mail.wvu.edu
END:VEVENT
BEGIN:VEVENT
DTSTART;TZID=America/Chicago:20260428T190000
DTEND;TZID=America/Chicago:20260428T210000
DTSTAMP:20260420T002319
CREATED:20260309T165833Z
LAST-MODIFIED:20260323T205658Z
UID:5945-1777402800-1777410000@countedoutfilm.com
SUMMARY:Teach for America
DESCRIPTION:
URL:https://countedoutfilm.com/screenings/teach-for-america/
LOCATION:Oklahoma City\, OK\, 2221 Exchange Ave.\, Oklahoma City\, OK\, 73108\, United States
ORGANIZER;CN="Parisa Pilehvar":MAILTO:Parisa.Pilehvar@teachforamerica.org
END:VEVENT
BEGIN:VEVENT
DTSTART;TZID=America/Chicago:20260429T163000
DTEND;TZID=America/Chicago:20260429T190000
DTSTAMP:20260420T002319
CREATED:20260414T201921Z
LAST-MODIFIED:20260414T201921Z
UID:8406-1777480200-1777489200@countedoutfilm.com
SUMMARY:Prepare2Nspire / University of Minnesota
DESCRIPTION:
URL:https://countedoutfilm.com/screenings/prepare2nspire-university-of-minnesota/
LOCATION:Minneapolis\, MN\, 2001 Plymouth Ave N\, Minneapolis\, MN\, 55455\, United States
ORGANIZER;CN="Lesa Clarkson":MAILTO:covin005@umn.edu
END:VEVENT
BEGIN:VEVENT
DTSTART;TZID=America/New_York:20260430T074500
DTEND;TZID=America/New_York:20260430T095500
DTSTAMP:20260420T002319
CREATED:20260407T204424Z
LAST-MODIFIED:20260407T204432Z
UID:7719-1777535100-1777542900@countedoutfilm.com
SUMMARY:Clinton County RESA
DESCRIPTION:
URL:https://countedoutfilm.com/screenings/clinton-county-resa/
LOCATION:St. Johns\, MI\, 1013 S. US-27\, Suite A\, St. Johns\, MI\, 48879\, United States
END:VEVENT
BEGIN:VEVENT
DTSTART;TZID=America/Los_Angeles:20260501T080000
DTEND;TZID=America/Los_Angeles:20260501T100000
DTSTAMP:20260420T002319
CREATED:20260414T191053Z
LAST-MODIFIED:20260414T191053Z
UID:8392-1777622400-1777629600@countedoutfilm.com
SUMMARY:Grandview School District
DESCRIPTION:
URL:https://countedoutfilm.com/screenings/grandview-school-district/
LOCATION:Grandview\, WA\, 1601 W. 5th Street\, Grandview\, WA\, 98930\, United States
ORGANIZER;CN="Jose Rivera":MAILTO:jrivera@gsd200.org
END:VEVENT
BEGIN:VEVENT
DTSTART;TZID=America/Los_Angeles:20260501T120000
DTEND;TZID=America/Los_Angeles:20260501T160000
DTSTAMP:20260420T002319
CREATED:20260316T135358Z
LAST-MODIFIED:20260316T135911Z
UID:6422-1777636800-1777651200@countedoutfilm.com
SUMMARY:San Diego City College - Yo Soy STEM
DESCRIPTION:
URL:https://countedoutfilm.com/screenings/san-diego-city-college-yo-soy-stem/
LOCATION:San Diego\, CA\, 1313 Park Blvd\, San Diego\, San Diego\, 92101\, United States
ORGANIZER;CN="San Diego City College - Yo Soy STEM":MAILTO:rrubalca@sdccd.edu
END:VEVENT
BEGIN:VEVENT
DTSTART;TZID=America/Los_Angeles:20260505T150000
DTEND;TZID=America/Los_Angeles:20260505T170000
DTSTAMP:20260420T002319
CREATED:20260415T181543Z
LAST-MODIFIED:20260415T181543Z
UID:8541-1777993200-1778000400@countedoutfilm.com
SUMMARY:Mt. San Antonio College
DESCRIPTION:
URL:https://countedoutfilm.com/screenings/mt-san-antonio-college/
LOCATION:Walnut\, CA\, 1100 N. Grand Avenue\, Walnut\, CA\, 91789\, United States
ORGANIZER;CN="Sarah Nichols":MAILTO:snichols3@mtsac.edu
END:VEVENT
BEGIN:VEVENT
DTSTART;TZID=UTC:20260506T100000
DTEND;TZID=UTC:20260506T170000
DTSTAMP:20260420T002319
CREATED:20260302T155352Z
LAST-MODIFIED:20260302T155352Z
UID:5343-1778061600-1778086800@countedoutfilm.com
SUMMARY:Institute of Mathematics and Technology - IMTec Federal University of Catalão - UFCAT
DESCRIPTION:
URL:https://countedoutfilm.com/screenings/institute-of-mathematics-and-technology-imtec-federal-university-of-catalao-ufcat/
LOCATION:Catalão\, Brazil\, Catalão\, GO\, Brazil
END:VEVENT
BEGIN:VEVENT
DTSTART;TZID=America/Denver:20260506T173000
DTEND;TZID=America/Denver:20260506T203000
DTSTAMP:20260420T002319
CREATED:20260226T180559Z
LAST-MODIFIED:20260408T172310Z
UID:5139-1778088600-1778099400@countedoutfilm.com
SUMMARY:Kiddom
DESCRIPTION:
URL:https://countedoutfilm.com/screenings/kiddom/
LOCATION:Albuquerque\, NM\, 1701 Mountain Rd NW\, Albuquerque\, NM\, 87104\, United States
ORGANIZER;CN="Carolyn Lohr":MAILTO:carolyn.lohr@kiddom.co
END:VEVENT
BEGIN:VEVENT
DTSTART;TZID=America/New_York:20260506T180000
DTEND;TZID=America/New_York:20260506T210000
DTSTAMP:20260420T002319
CREATED:20260414T203450Z
LAST-MODIFIED:20260414T203450Z
UID:8413-1778090400-1778101200@countedoutfilm.com
SUMMARY:Robert H Jackson Center
DESCRIPTION:
URL:https://countedoutfilm.com/screenings/robert-h-jackson-center/
LOCATION:Jamestown\, NY\, 305 E. Fourth St.\, Jamestown\, NY\, 14701\, United States
ORGANIZER;CN="Dave Wilson":MAILTO:WILSONDC@buffalostate.edu
END:VEVENT
BEGIN:VEVENT
DTSTART;TZID=America/Denver:20260507T183000
DTEND;TZID=America/Denver:20260507T220000
DTSTAMP:20260420T002319
CREATED:20260129T210324Z
LAST-MODIFIED:20260129T210324Z
UID:4244-1778178600-1778191200@countedoutfilm.com
SUMMARY:Boulder Public Library
DESCRIPTION:
URL:https://countedoutfilm.com/screenings/boulder-public-library/
LOCATION:Boulder\, CO\, 1000 Canyon Blvd\, Boulder\, CO\, 80302\, United States
END:VEVENT
BEGIN:VEVENT
DTSTART;TZID=UTC:20260507T190000
DTEND;TZID=UTC:20260507T210000
DTSTAMP:20260420T002319
CREATED:20260402T182254Z
LAST-MODIFIED:20260413T135927Z
UID:7270-1778180400-1778187600@countedoutfilm.com
SUMMARY:Waterloo Region District School Board
DESCRIPTION:
URL:https://countedoutfilm.com/screenings/waterloo-region-district-school-board-2/
LOCATION:Eastwood Collegiate Institute\, Eastwood Collegiate Institute\, 760 Weber St E\, Kitchener\, Ontario\, N2H 1H6\, Canada
ORGANIZER;CN="Carolyn Gingerich":MAILTO:carolyn_gingerich@wrdsb.ca
END:VEVENT
BEGIN:VEVENT
DTSTART;TZID=America/Los_Angeles:20260509T133000
DTEND;TZID=America/Los_Angeles:20260509T160000
DTSTAMP:20260420T002319
CREATED:20260406T170354Z
LAST-MODIFIED:20260406T170354Z
UID:7608-1778333400-1778342400@countedoutfilm.com
SUMMARY:Gold Coast CUE
DESCRIPTION:
URL:https://countedoutfilm.com/screenings/gold-coast-cue/
LOCATION:Camarillo\, CA\, 4235 Mar Vista Drive\, Camarillo\, CA\, 93010\, United States
ORGANIZER;CN="Jay Sorensen":MAILTO:jay4@goldcoastcue.org
END:VEVENT
BEGIN:VEVENT
DTSTART;TZID=UTC:20260509T170000
DTEND;TZID=UTC:20260509T193000
DTSTAMP:20260420T002319
CREATED:20260329T010036Z
LAST-MODIFIED:20260329T010036Z
UID:6892-1778346000-1778355000@countedoutfilm.com
SUMMARY:Bridgeport School District
DESCRIPTION:
URL:https://countedoutfilm.com/screenings/bridgeport-school-district/
LOCATION:Bridgeport\, WA\, 1300 Douglas Ave\, Bridgeport\, WA\, 98813\, United States
ORGANIZER;CN="Susan Schuh":MAILTO:sschuh@bsd75.org
END:VEVENT
END:VCALENDAR