BEGIN:VCALENDAR
VERSION:2.0
PRODID:-//COUNTED OUT - ECPv6.15.12.2//NONSGML v1.0//EN
CALSCALE:GREGORIAN
METHOD:PUBLISH
X-WR-CALNAME:COUNTED OUT
X-ORIGINAL-URL:https://countedoutfilm.com
X-WR-CALDESC:Events for COUNTED OUT
REFRESH-INTERVAL;VALUE=DURATION:PT1H
X-Robots-Tag:noindex
X-PUBLISHED-TTL:PT1H
BEGIN:VTIMEZONE
TZID:America/New_York
BEGIN:DAYLIGHT
TZOFFSETFROM:-0500
TZOFFSETTO:-0400
TZNAME:EDT
DTSTART:20240310T070000
END:DAYLIGHT
BEGIN:STANDARD
TZOFFSETFROM:-0400
TZOFFSETTO:-0500
TZNAME:EST
DTSTART:20241103T060000
END:STANDARD
BEGIN:DAYLIGHT
TZOFFSETFROM:-0500
TZOFFSETTO:-0400
TZNAME:EDT
DTSTART:20250309T070000
END:DAYLIGHT
BEGIN:STANDARD
TZOFFSETFROM:-0400
TZOFFSETTO:-0500
TZNAME:EST
DTSTART:20251102T060000
END:STANDARD
BEGIN:DAYLIGHT
TZOFFSETFROM:-0500
TZOFFSETTO:-0400
TZNAME:EDT
DTSTART:20260308T070000
END:DAYLIGHT
BEGIN:STANDARD
TZOFFSETFROM:-0400
TZOFFSETTO:-0500
TZNAME:EST
DTSTART:20261101T060000
END:STANDARD
END:VTIMEZONE
BEGIN:VEVENT
DTSTART;VALUE=DATE:20250424
DTEND;VALUE=DATE:20250425
DTSTAMP:20260420T071912
CREATED:20250508T181554Z
LAST-MODIFIED:20250508T181554Z
UID:1996-1745452800-1745539199@countedoutfilm.com
SUMMARY:Upper Arlington Schools
DESCRIPTION:
URL:https://countedoutfilm.com/screenings/upper-arlington-schools/
LOCATION:Upper Arlington\, OH\, United States
CATEGORIES:USA
END:VEVENT
BEGIN:VEVENT
DTSTART;VALUE=DATE:20250423
DTEND;VALUE=DATE:20250424
DTSTAMP:20260420T071912
CREATED:20250508T181554Z
LAST-MODIFIED:20250508T181554Z
UID:1992-1745366400-1745452799@countedoutfilm.com
SUMMARY:Sunnyside Elementary School
DESCRIPTION:
URL:https://countedoutfilm.com/screenings/sunnyside-elementary-school-3/
LOCATION:Clackamas\, OR\, United States
CATEGORIES:USA
END:VEVENT
BEGIN:VEVENT
DTSTART;VALUE=DATE:20250423
DTEND;VALUE=DATE:20250424
DTSTAMP:20260420T071912
CREATED:20250508T181554Z
LAST-MODIFIED:20250508T181554Z
UID:1993-1745366400-1745452799@countedoutfilm.com
SUMMARY:Long Beach Unified School District
DESCRIPTION:
URL:https://countedoutfilm.com/screenings/long-beach-unified-school-district-9/
LOCATION:Long Beach\, CA\, Long Beach\, CA\, United States
CATEGORIES:USA
END:VEVENT
BEGIN:VEVENT
DTSTART;VALUE=DATE:20250423
DTEND;VALUE=DATE:20250424
DTSTAMP:20260420T071912
CREATED:20250508T181407Z
LAST-MODIFIED:20250508T181407Z
UID:1991-1745366400-1745452799@countedoutfilm.com
SUMMARY:New Mexico State University
DESCRIPTION:
URL:https://countedoutfilm.com/screenings/new-mexico-state-university/
LOCATION:Las Cruces\, NM\, United States
CATEGORIES:USA
END:VEVENT
BEGIN:VEVENT
DTSTART;VALUE=DATE:20250422
DTEND;VALUE=DATE:20250423
DTSTAMP:20260420T071912
CREATED:20250508T181407Z
LAST-MODIFIED:20250508T181407Z
UID:1988-1745280000-1745366399@countedoutfilm.com
SUMMARY:University of Arizona
DESCRIPTION:
URL:https://countedoutfilm.com/screenings/university-of-arizona/
LOCATION:Tucson\, AZ\, 101 W 44th St\, Tucson\, AZ\, 85713\, United States
CATEGORIES:USA
END:VEVENT
BEGIN:VEVENT
DTSTART;VALUE=DATE:20250422
DTEND;VALUE=DATE:20250423
DTSTAMP:20260420T071912
CREATED:20250508T181407Z
LAST-MODIFIED:20250508T181407Z
UID:1989-1745280000-1745366399@countedoutfilm.com
SUMMARY:BioFrontiers Institute
DESCRIPTION:
URL:https://countedoutfilm.com/screenings/biofrontiers-institute/
LOCATION:Boulder\, CO\, 1000 Canyon Blvd\, Boulder\, CO\, 80302\, United States
CATEGORIES:USA
END:VEVENT
BEGIN:VEVENT
DTSTART;VALUE=DATE:20250422
DTEND;VALUE=DATE:20250423
DTSTAMP:20260420T071912
CREATED:20250508T181407Z
LAST-MODIFIED:20250508T181407Z
UID:1990-1745280000-1745366399@countedoutfilm.com
SUMMARY:The Waverly School
DESCRIPTION:
URL:https://countedoutfilm.com/screenings/the-waverly-school/
LOCATION:Pasadena\, CA\, United States
CATEGORIES:USA
END:VEVENT
BEGIN:VEVENT
DTSTART;VALUE=DATE:20250421
DTEND;VALUE=DATE:20250422
DTSTAMP:20260420T071912
CREATED:20250508T181407Z
LAST-MODIFIED:20250508T181407Z
UID:1987-1745193600-1745279999@countedoutfilm.com
SUMMARY:Colorado Mesa University
DESCRIPTION:
URL:https://countedoutfilm.com/screenings/colorado-mesa-university/
LOCATION:Grand Junction\, CO\, United States
CATEGORIES:USA
END:VEVENT
BEGIN:VEVENT
DTSTART;VALUE=DATE:20250421
DTEND;VALUE=DATE:20250422
DTSTAMP:20260420T071912
CREATED:20250508T181359Z
LAST-MODIFIED:20250508T181359Z
UID:1985-1745193600-1745279999@countedoutfilm.com
SUMMARY:Early College Alliance @ Eastern Michigan Univ.
DESCRIPTION:
URL:https://countedoutfilm.com/screenings/early-college-alliance-eastern-michigan-univ/
LOCATION:Ypsilanti\, MI\, United States
CATEGORIES:USA
END:VEVENT
BEGIN:VEVENT
DTSTART;VALUE=DATE:20250421
DTEND;VALUE=DATE:20250422
DTSTAMP:20260420T071912
CREATED:20250508T181359Z
LAST-MODIFIED:20250508T181359Z
UID:1986-1745193600-1745279999@countedoutfilm.com
SUMMARY:Manistee Intermediate School District
DESCRIPTION:
URL:https://countedoutfilm.com/screenings/manistee-intermediate-school-district/
LOCATION:Manistee\, MI\, United States
CATEGORIES:USA
END:VEVENT
BEGIN:VEVENT
DTSTART;VALUE=DATE:20250417
DTEND;VALUE=DATE:20250418
DTSTAMP:20260420T071912
CREATED:20250508T181359Z
LAST-MODIFIED:20250508T181359Z
UID:1982-1744848000-1744934399@countedoutfilm.com
SUMMARY:San Mateo County Office of Education
DESCRIPTION:
URL:https://countedoutfilm.com/screenings/san-mateo-county-office-of-education-4/
LOCATION:Redwood City\, CA\, United States
CATEGORIES:USA
END:VEVENT
BEGIN:VEVENT
DTSTART;VALUE=DATE:20250417
DTEND;VALUE=DATE:20250418
DTSTAMP:20260420T071912
CREATED:20250508T181359Z
LAST-MODIFIED:20250508T181359Z
UID:1983-1744848000-1744934399@countedoutfilm.com
SUMMARY:Heart Math Tutoring
DESCRIPTION:
URL:https://countedoutfilm.com/screenings/heart-math-tutoring-2/
LOCATION:Winston-Salem\, NC\, United States
CATEGORIES:USA
END:VEVENT
BEGIN:VEVENT
DTSTART;VALUE=DATE:20250417
DTEND;VALUE=DATE:20250418
DTSTAMP:20260420T071912
CREATED:20250508T181354Z
LAST-MODIFIED:20250508T181354Z
UID:1981-1744848000-1744934399@countedoutfilm.com
SUMMARY:Sunnyside Elementary School
DESCRIPTION:
URL:https://countedoutfilm.com/screenings/sunnyside-elementary-school-2/
LOCATION:Clackamas\, OR\, United States
CATEGORIES:USA
END:VEVENT
BEGIN:VEVENT
DTSTART;VALUE=DATE:20250416
DTEND;VALUE=DATE:20250417
DTSTAMP:20260420T071912
CREATED:20250508T181354Z
LAST-MODIFIED:20250508T181354Z
UID:1977-1744761600-1744847999@countedoutfilm.com
SUMMARY:Black Hills High School
DESCRIPTION:
URL:https://countedoutfilm.com/screenings/black-hills-high-school/
LOCATION:Tumwater\, WA\, United States
CATEGORIES:USA
END:VEVENT
BEGIN:VEVENT
DTSTART;VALUE=DATE:20250416
DTEND;VALUE=DATE:20250417
DTSTAMP:20260420T071912
CREATED:20250508T181354Z
LAST-MODIFIED:20250508T181354Z
UID:1978-1744761600-1744847999@countedoutfilm.com
SUMMARY:Oakland Schools
DESCRIPTION:
URL:https://countedoutfilm.com/screenings/oakland-schools/
LOCATION:Waterford\, MI\, United States
CATEGORIES:USA
END:VEVENT
BEGIN:VEVENT
DTSTART;VALUE=DATE:20250416
DTEND;VALUE=DATE:20250417
DTSTAMP:20260420T071912
CREATED:20250508T181354Z
LAST-MODIFIED:20250508T181354Z
UID:1979-1744761600-1744847999@countedoutfilm.com
SUMMARY:Oregon Episcopal School
DESCRIPTION:
URL:https://countedoutfilm.com/screenings/oregon-episcopal-school/
LOCATION:Portland\, OR\, 1930 SW 4th Ave\, Portland\, OR\, 97201\, United States
CATEGORIES:USA
END:VEVENT
BEGIN:VEVENT
DTSTART;VALUE=DATE:20250416
DTEND;VALUE=DATE:20250417
DTSTAMP:20260420T071912
CREATED:20250508T181354Z
LAST-MODIFIED:20250508T181354Z
UID:1980-1744761600-1744847999@countedoutfilm.com
SUMMARY:University of Illinois Chicago College of Medicine
DESCRIPTION:
URL:https://countedoutfilm.com/screenings/university-of-illinois-chicago-college-of-medicine/
LOCATION:Chicago\, IL\, 2333 W McLean Ave\, Chicago\, IL\, 60647\, United States
CATEGORIES:USA
END:VEVENT
BEGIN:VEVENT
DTSTART;VALUE=DATE:20250416
DTEND;VALUE=DATE:20250417
DTSTAMP:20260420T071912
CREATED:20250508T181350Z
LAST-MODIFIED:20250508T181350Z
UID:1975-1744761600-1744847999@countedoutfilm.com
SUMMARY:Vel R. Phillips School
DESCRIPTION:
URL:https://countedoutfilm.com/screenings/vel-r-phillips-school/
LOCATION:Wauwatosa\, WI\, United States
CATEGORIES:USA
END:VEVENT
BEGIN:VEVENT
DTSTART;VALUE=DATE:20250416
DTEND;VALUE=DATE:20250417
DTSTAMP:20260420T071912
CREATED:20250508T181350Z
LAST-MODIFIED:20250508T181350Z
UID:1976-1744761600-1744847999@countedoutfilm.com
SUMMARY:Western Washington University in Bellingham
DESCRIPTION:
URL:https://countedoutfilm.com/screenings/western-washington-university-in-bellingham/
LOCATION:Bellingham\, WA\, United States
CATEGORIES:USA
END:VEVENT
BEGIN:VEVENT
DTSTART;VALUE=DATE:20250415
DTEND;VALUE=DATE:20250416
DTSTAMP:20260420T071912
CREATED:20250508T181350Z
LAST-MODIFIED:20250508T181350Z
UID:1972-1744675200-1744761599@countedoutfilm.com
SUMMARY:Somerville Public Schools
DESCRIPTION:
URL:https://countedoutfilm.com/screenings/somerville-public-schools/
LOCATION:Somerville\, MA\, United States
CATEGORIES:USA
END:VEVENT
BEGIN:VEVENT
DTSTART;VALUE=DATE:20250415
DTEND;VALUE=DATE:20250416
DTSTAMP:20260420T071912
CREATED:20250508T181350Z
LAST-MODIFIED:20250508T181350Z
UID:1973-1744675200-1744761599@countedoutfilm.com
SUMMARY:Wexford-Missaukee Intermediate School
DESCRIPTION:
URL:https://countedoutfilm.com/screenings/wexford-missaukee-intermediate-school/
LOCATION:Cadillac\, MI\, United States
CATEGORIES:USA
END:VEVENT
BEGIN:VEVENT
DTSTART;VALUE=DATE:20250415
DTEND;VALUE=DATE:20250416
DTSTAMP:20260420T071912
CREATED:20250508T181350Z
LAST-MODIFIED:20250508T181350Z
UID:1974-1744675200-1744761599@countedoutfilm.com
SUMMARY:Black Hills Math Department
DESCRIPTION:
URL:https://countedoutfilm.com/screenings/black-hills-math-department/
LOCATION:Tumwater\, WA\, United States
CATEGORIES:USA
END:VEVENT
BEGIN:VEVENT
DTSTART;VALUE=DATE:20250415
DTEND;VALUE=DATE:20250416
DTSTAMP:20260420T071912
CREATED:20250508T181343Z
LAST-MODIFIED:20250508T181343Z
UID:1970-1744675200-1744761599@countedoutfilm.com
SUMMARY:Sun Prairie Area School District
DESCRIPTION:
URL:https://countedoutfilm.com/screenings/sun-prairie-area-school-district-3/
LOCATION:Sun Prairie\, WI\, United States
CATEGORIES:USA
END:VEVENT
BEGIN:VEVENT
DTSTART;VALUE=DATE:20250415
DTEND;VALUE=DATE:20250416
DTSTAMP:20260420T071912
CREATED:20250508T181343Z
LAST-MODIFIED:20250508T181343Z
UID:1971-1744675200-1744761599@countedoutfilm.com
SUMMARY:Halton District School Board
DESCRIPTION:
URL:https://countedoutfilm.com/screenings/halton-district-school-board-2/
LOCATION:Milton\, ON\, CA\, United States
CATEGORIES:USA
END:VEVENT
BEGIN:VEVENT
DTSTART;VALUE=DATE:20250414
DTEND;VALUE=DATE:20250415
DTSTAMP:20260420T071912
CREATED:20250508T181343Z
LAST-MODIFIED:20250508T181343Z
UID:1967-1744588800-1744675199@countedoutfilm.com
SUMMARY:Mt. Scott
DESCRIPTION:
URL:https://countedoutfilm.com/screenings/mt-scott/
LOCATION:Clackamas\, OR\, United States
CATEGORIES:USA
END:VEVENT
BEGIN:VEVENT
DTSTART;VALUE=DATE:20250414
DTEND;VALUE=DATE:20250415
DTSTAMP:20260420T071912
CREATED:20250508T181343Z
LAST-MODIFIED:20250508T181343Z
UID:1968-1744588800-1744675199@countedoutfilm.com
SUMMARY:Happy Valley Elementary
DESCRIPTION:
URL:https://countedoutfilm.com/screenings/happy-valley-elementary/
LOCATION:Clackamas\, OR\, United States
CATEGORIES:USA
END:VEVENT
BEGIN:VEVENT
DTSTART;VALUE=DATE:20250414
DTEND;VALUE=DATE:20250415
DTSTAMP:20260420T071912
CREATED:20250508T181343Z
LAST-MODIFIED:20250508T181343Z
UID:1969-1744588800-1744675199@countedoutfilm.com
SUMMARY:North Clackamas District Office
DESCRIPTION:
URL:https://countedoutfilm.com/screenings/north-clackamas-district-office-2/
LOCATION:Clackamas\, OR\, United States
CATEGORIES:USA
END:VEVENT
BEGIN:VEVENT
DTSTART;VALUE=DATE:20250414
DTEND;VALUE=DATE:20250415
DTSTAMP:20260420T071912
CREATED:20250508T181342Z
LAST-MODIFIED:20250508T181342Z
UID:1963-1744588800-1744675199@countedoutfilm.com
SUMMARY:Sunnyside Elementary School
DESCRIPTION:
URL:https://countedoutfilm.com/screenings/sunnyside-elementary-school/
LOCATION:Clackamas\, OR\, United States
CATEGORIES:USA
END:VEVENT
BEGIN:VEVENT
DTSTART;VALUE=DATE:20250414
DTEND;VALUE=DATE:20250415
DTSTAMP:20260420T071912
CREATED:20250508T181342Z
LAST-MODIFIED:20250508T181342Z
UID:1964-1744588800-1744675199@countedoutfilm.com
SUMMARY:KIPP New Jersey
DESCRIPTION:
URL:https://countedoutfilm.com/screenings/kipp-new-jersey/
LOCATION:Newark\, NJ\, United States
CATEGORIES:USA
END:VEVENT
BEGIN:VEVENT
DTSTART;VALUE=DATE:20250414
DTEND;VALUE=DATE:20250415
DTSTAMP:20260420T071912
CREATED:20250508T181342Z
LAST-MODIFIED:20250508T181342Z
UID:1965-1744588800-1744675199@countedoutfilm.com
SUMMARY:Morgan County School District RE-3
DESCRIPTION:
URL:https://countedoutfilm.com/screenings/morgan-county-school-district-re-3/
LOCATION:Fort Morgan\, CO\, United States
CATEGORIES:USA
END:VEVENT
END:VCALENDAR